BEGIN:VCALENDAR
VERSION:2.0
PRODID:-//Siebkens Resort - ECPv5.14.0.2//NONSGML v1.0//EN
CALSCALE:GREGORIAN
METHOD:PUBLISH
X-WR-CALNAME:Siebkens Resort
X-ORIGINAL-URL:https://www.siebkens.com
X-WR-CALDESC:Events for Siebkens Resort
REFRESH-INTERVAL;VALUE=DURATION:PT1H
X-Robots-Tag:noindex
X-PUBLISHED-TTL:PT1H
BEGIN:VTIMEZONE
TZID:UTC
BEGIN:STANDARD
TZOFFSETFROM:+0000
TZOFFSETTO:+0000
TZNAME:UTC
DTSTART:20230101T000000
END:STANDARD
END:VTIMEZONE
BEGIN:VEVENT
DTSTART;TZID=UTC:20230512T190000
DTEND;TZID=UTC:20230512T220000
DTSTAMP:20260421T165918
CREATED:20230508T011749Z
LAST-MODIFIED:20230508T011749Z
UID:1356-1683918000-1683928800@www.siebkens.com
SUMMARY:ELGEF Celebrity Bartending Fundraiser
DESCRIPTION:Can any of these people bartend??? Come find out & throw them lots of tips for our local education foundation.  7:30-8pm Mr. Faris\, Dr. Englebretson\, & Coach Larson; 8-8:30pm John Schott & Mary Jo Vollrath; 8:30-9:15pm Daniel Sadiq & Bobbie Stroessner; 9:15-10pm Jon Prigge & Jackie Hansmann.  Join Siebkens Resort in supporting ELGEF
URL:https://www.siebkens.com/event/elgef-celebrity-bartending-fundraiser/
LOCATION:Siebkens Resort\, 284 S. Lake Street\, Elkhart Lake\, WI\, 53020\, United States
ATTACH;FMTTYPE=image/png:https://www.siebkens.com/wp-content/uploads/2023/05/ELGEF-Celebrity-Bartending-Instagram-Post-Square.png
END:VEVENT
END:VCALENDAR